BEGIN:VCALENDAR
VERSION:2.0
PRODID:-//ChamberMaster//Event Calendar 2.0//EN
METHOD:PUBLISH
X-PUBLISHED-TTL:P3D
REFRESH-INTERVAL:P3D
CALSCALE:GREGORIAN
BEGIN:VEVENT
DTSTART:20141206T160000Z
DTEND:20141206T190000Z
X-MICROSOFT-CDO-ALLDAYEVENT:FALSE
SUMMARY:2nd Annual Open House at Jerae's Unity Alpacas
DESCRIPTION:You are cordially invited to our 2nd Annual Holiday Open House.\n\nMeet our 'hummers'\, touch their soft luxurious fleece\, feed them treats\, and watch as they interact with each other.  Learn about alpacas and items made from their fiber.  Demonstrations will be available in skirting fleece\, carding\, spinning\, loom knitting and needle felting.  Shop in our farm store for alpaca items made from our very own alpacas. You can find great gifts for most eceryone on your gift list. We have alpaca hats\, scarves\,  regular and fingerless gloves\, socks\, yarn\, and much more. We also have alpaca items imported from Peru including woven scarves\, earflap hats\, gloves\, and toys!! \n\n\n\nDoor prize drawing and light refreshments plus hot and cold beverages will be available. For directions\, please visit our website: www.jeraesunityalpacas.com and click on 'Contact Us'. Also may call either 706-889-2185 OR 478-278-0147 for more info.
X-ALT-DESC;FMTTYPE=text/html:<em><strong>You are cordially invited to our 2nd Annual Holiday Open House.</strong></em><br />\n<span style="background-color:rgb(250\, 250\, 250)\; color:rgb(66\, 66\, 66)\; font-family:arial\,helvetica\,sans-serif\; font-size:12px">Meet our &#39\;hummers&#39\;\, touch their soft luxurious fleece\, feed them treats\, and watch as they interact with each other. &nbsp\;Learn about alpacas and items made from their fiber. &nbsp\;Demonstrations will be available in skirting fleece\, carding\, spinning\, loom knitting and needle felting. &nbsp\;Shop in our farm store for alpaca items made from our very own alpacas. You can find great gifts for most eceryone on your gift list. We have alpaca hats\, scarves\, &nbsp\;regular and fingerless gloves\, socks\, yarn\, and much more. We also have alpaca items imported from Peru including woven scarves\, earflap hats\, gloves\, and toys!!&nbsp\;</span><br />\n<br />\n<span style="background-color:rgb(250\, 250\, 250)\; color:rgb(66\, 66\, 66)\; font-family:arial\,helvetica\,sans-serif\; font-size:12px">Door prize drawing and light refreshments plus hot and cold beverages will be available. For directions\, please visit our website: www.jeraesunityalpacas.com and click on &#39\;Contact Us&#39\;. Also may&nbsp\;call either 706-889-2185 OR 478-278-0147 for more info.&nbsp\;</span>
LOCATION:Jerae's Unity Alpacas 1338 Henson Road Blairsville\, GA
UID:e.256.28039
SEQUENCE:3
DTSTAMP:20260424T020121Z
URL:https://members.visitblairsvillega.com/events/details/2nd-annual-open-house-at-jerae-s-unity-alpacas-12-06-2014-28039
END:VEVENT

END:VCALENDAR
