BEGIN:VCALENDAR
VERSION:2.0
PRODID:-//ChamberMaster//Event Calendar 2.0//EN
METHOD:PUBLISH
X-PUBLISHED-TTL:P3D
REFRESH-INTERVAL:P3D
CALSCALE:GREGORIAN
BEGIN:VEVENT
DTSTART:20170504T160000Z
DTEND:20170505T180000Z
X-MICROSOFT-CDO-ALLDAYEVENT:FALSE
SUMMARY:2nd Annual Relay for Life Mother's Day Market
DESCRIPTION:Mother's Day is right around the corner and Union General Hospital's Relay for Life team has an upcoming fundraiser that will help you find the perfect gifts for all the special women in your life! This two day sale will will be held next Thursday\, May 4th from 12-8pm and Friday\, May 5th from 9am-2pm in the hospital's 2nd Floor Classroom A.\n\n\n\nThey will have a variety of local independent distributors and small businesses setup\, such as Origami Owl\, Premier Designs Jewelry\, NYR Organic\, Mary Kay\, Rodan & Fields\, Younique\, Pampered Chef\, Crooked Creek Farm Bath & Body\, Jerae's Unity Alpacas\, LuLaRoe\, Tastefully Simple\, Rustic Mountain Decor\, Stampin Up!\, Inner Awakenings and Designed for your Soul.
X-ALT-DESC;FMTTYPE=text/html:Mother&rsquo\;s Day is right around the corner and Union General Hospital&#39\;s Relay for Life team has an upcoming fundraiser that will help you find the perfect gifts for all the special women in your life! This two day sale will will be held next Thursday\, May 4th from 12-8pm and Friday\, May 5th from 9am-2pm in the hospital&#39\;s 2nd Floor Classroom A.<br />\n<br />\nThey will have a variety of local independent distributors and small businesses setup\, such as Origami Owl\, Premier Designs Jewelry\, NYR Organic\, Mary Kay\, Rodan &amp\; Fields\, Younique\, Pampered Chef\, Crooked Creek Farm Bath &amp\; Body\, Jerae&rsquo\;s Unity Alpacas\, LuLaRoe\, Tastefully Simple\, Rustic Mountain Decor\, Stampin Up!\, Inner Awakenings and Designed for your Soul.<br />\n&nbsp\;
LOCATION:Union General Hospital 35 Hospital Road Blairsville\, GA 30512
UID:e.256.73066
SEQUENCE:3
DTSTAMP:20260420T010530Z
URL:https://members.visitblairsvillega.com/events/details/2nd-annual-relay-for-life-mother-s-day-market-73066
END:VEVENT

END:VCALENDAR
