BEGIN:VCALENDAR
VERSION:2.0
PRODID:-//ChamberMaster//Event Calendar 2.0//EN
METHOD:PUBLISH
X-PUBLISHED-TTL:P3D
REFRESH-INTERVAL:P3D
CALSCALE:GREGORIAN
BEGIN:VEVENT
DTSTART:20150426T130000Z
DTEND:20150426T210000Z
X-MICROSOFT-CDO-ALLDAYEVENT:FALSE
SUMMARY:2nd Annual Relay for Life Yard & Bake Sale
DESCRIPTION:SPRING CLEANING TIME! I need YOUR help! I need donations for this Relay for Life Yardsale! Anything is appreciated!\n\nWe will be renting tables for $10 ea. Limited space available so message us soon! The $10 fee is donated to Relay for Life and you keep your profits! OR You can donate unwanted stuff and we will sell it and all money goes to Union County Relay For Life! We will also have a bake sale going on and lots and lots of goodies!!! Please stop by and support your local Relay for Life!!!\n\n\n\nIf you don't wan't to just give away your stuff then you can rent a table from us for a small fee and sell your own things...If you're busy that day then we can sell it for you if you give us 10% of each sale. It's a win win!
X-ALT-DESC;FMTTYPE=text/html:<span class="fbPhotosPhotoCaption" data-ft="{&quot\;tn&quot\;:&quot\;K&quot\;}" id="fbPhotoSnowliftCaption" tabindex="0"><span class="hasCaption">SPRING CLEANING TIME! I need YOUR help! I need donations for this Relay for Life Yardsale! Anything is appreciated!</span></span><br />\nWe will be renting tables for $10 ea. Limited space available so message us soon! The $10 fee is donated to Relay for Life and you keep your profits! OR You can donate unwanted stuff and we will sell it and all money goes to <a data-gt="{&quot\;entity_id&quot\;:&quot\;187895023599&quot\;\,&quot\;entity_path&quot\;:&quot\;WebEventPublicProdFeedPermalinkController&quot\;}" data-hovercard="/ajax/hovercard/page.php?id=187895023599&amp\;extragetparams=%7B%22directed_target_id%22%3A0%7D" href="https://www.facebook.com/pages/Union-County-Relay-For-Life/187895023599">Union County Relay For Life</a>! We will also have a bake sale going on and lots and lots of goodies!!! Please stop by and support your local Relay for Life!!!<br />\n<br />\n<span class="fbPhotosPhotoCaption" data-ft="{&quot\;tn&quot\;:&quot\;K&quot\;}" tabindex="0"><span class="hasCaption">If you don&#39\;t wan&#39\;t to just give away your stuff then you can rent a table from us for a small fee and sell your own things...If you&#39\;re busy that day then we can sell it for you if you give us 10% of each sale. It&#39\;s a win win! </span></span>
LOCATION:Pat Haralson Civic Center 165 Welborn Street
UID:e.256.39912
SEQUENCE:3
DTSTAMP:20260423T200705Z
URL:https://members.visitblairsvillega.com/events/details/2nd-annual-relay-for-life-yard-bake-sale-04-26-2015-39912
END:VEVENT

END:VCALENDAR
