BEGIN:VCALENDAR
VERSION:2.0
PRODID:-//ChamberMaster//Event Calendar 2.0//EN
METHOD:PUBLISH
X-PUBLISHED-TTL:P3D
REFRESH-INTERVAL:P3D
CALSCALE:GREGORIAN
BEGIN:VEVENT
DTSTART:20140801T213000Z
DTEND:20140801T213000Z
X-MICROSOFT-CDO-ALLDAYEVENT:FALSE
SUMMARY:2nd Annual S.O.S. Glow Golf Tournament
DESCRIPTION:2nd Annual S.O.S. Glow Golf Tournament\n\npresented by Union General Hospital\n\nFriday\, August 1\, 2014\n\nRegistration starts @ 4pm Registration: $75 per person $300 per foursome\n\nTee Off @ 5:30pm\n\nDinner/Raffle @ 8pm\n\nGlow Golf Begins @ 8:45pm Awards at Conclusion of Play!
X-ALT-DESC;FMTTYPE=text/html:<strong>2nd Annual S.O.S. Glow Golf Tournament</strong><br />\npresented by Union General Hospital<br />\nFriday\, August 1\, 2014<br />\nRegistration starts @ 4pm Registration: $75 per person $300 per foursome<br />\n<strong>Tee Off @ 5:30pm</strong><br />\nDinner/Raffle @ 8pm<br />\nGlow Golf Begins @ 8:45pm Awards at Conclusion of Play!
LOCATION:Butternut Creek Golf Course 129 Union County Rec Rd Blairsville
UID:e.256.25473
SEQUENCE:3
DTSTAMP:20260424T073933Z
URL:https://members.visitblairsvillega.com/events/details/2nd-annual-s-o-s-glow-golf-tournament-08-01-2014-25473
END:VEVENT

END:VCALENDAR
