BEGIN:VCALENDAR
VERSION:2.0
PRODID:-//ChamberMaster//Event Calendar 2.0//EN
METHOD:PUBLISH
X-PUBLISHED-TTL:P3D
REFRESH-INTERVAL:P3D
CALSCALE:GREGORIAN
BEGIN:VEVENT
DTSTART:20140622T110000Z
DTEND:20140622T140000Z
X-MICROSOFT-CDO-ALLDAYEVENT:FALSE
SUMMARY:2nd Annual Summer Sizzler 5k
DESCRIPTION:Northeast Georgia Board of Realtors 2nd Annual \n\n"Run with the Realtors Summer Sizzler 5k"\n\nSunday\, June 22nd\n\nMeek's Park in Blairsville\, GA\n\nRegistration Opens at 7:00AM\n\nRace starts at 8:00AM.\n\nFor more information visit www.active.com or call 706-781-3030.\n\n\n\nProfits donated to a local charity!
X-ALT-DESC;FMTTYPE=text/html:<br />\n<em><strong>Northeast Georgia Board of Realtors 2nd Annual </strong></em><br />\n<span style="font-family: comic sans ms\;">&quot\;Run with the Realtors Summer Sizzler 5k&quot\;</span><br />\nSunday\, June 22nd<br />\nMeek&#39\;s Park in Blairsville\, GA<br />\nRegistration Opens at 7:00AM<br />\nRace starts at 8:00AM.<br />\nFor more information visit www.active.com or call 706-781-3030.<br />\n<br />\nProfits donated to a local charity!
LOCATION:Meek's Park in Blairsville\, GA
UID:e.256.23402
SEQUENCE:3
DTSTAMP:20260424T104906Z
URL:https://members.visitblairsvillega.com/events/details/2nd-annual-summer-sizzler-5k-06-22-2014-23402
END:VEVENT

END:VCALENDAR
