BEGIN:VCALENDAR
VERSION:2.0
PRODID:-//ChamberMaster//Event Calendar 2.0//EN
METHOD:PUBLISH
X-PUBLISHED-TTL:P3D
REFRESH-INTERVAL:P3D
CALSCALE:GREGORIAN
BEGIN:VEVENT
DTSTART:20140607T220000Z
DTEND:20140607T220000Z
X-MICROSOFT-CDO-ALLDAYEVENT:FALSE
SUMMARY:2nd Annual "TOOL BOX BASH" Dinner Dance
DESCRIPTION:2nd Annual "TOOL BOX BASH" Dinner Dance\n\nSaturday\, June 7\, 2014\n\nLocation: St. Francis of Assisi Church on Hwy 76 in Blairsville\n\n\n\nCocktails - 6:00pm  Buffet Dinner - 7:00pm\n\nAttire: Smart Casual\n\nLive Entertainment by Gnarly Fingers\n\n\n\nRaffle 1st Prize: Bose Solo TV Sound with 42" LG Flat Screen TV\n\n2nd Prize: Hand Made Quilt by Local Artist\n\nPlus 50/50 Drawing ($1\,000 Prize to Winner)\n\nSilent Auction - Credit Cards\, Checks or Cash Accepted\n\n\n\nTickets - $50.00 per person\n\nFor Reservations Call 828-837-8536\n\n\n\nHelp Habitat Build decent\, affordable shelter for families that qualify for a no-interest mortgage loan
X-ALT-DESC;FMTTYPE=text/html:<strong><span style="font-size: 14px\;">2nd Annual &quot\;TOOL BOX BASH&quot\; Dinner Dance</span></strong><br />\nSaturday\, June 7\, 2014<br />\nLocation: St. Francis of Assisi Church on Hwy 76 in Blairsville<br />\n<br />\n<strong>Cocktails - 6:00pm&nbsp\; Buffet Dinner - 7:00pm</strong><br />\nAttire: Smart Casual<br />\n<strong>Live Entertainment by Gnarly Fingers</strong><br />\n<br />\n<strong>Raffle 1st Prize</strong>: Bose Solo TV Sound with 42&quot\; LG Flat Screen TV<br />\n<strong>2nd Prize</strong>: Hand Made Quilt by Local Artist<br />\n<strong>Plus 50/50</strong> Drawing ($1\,000 Prize to Winner)<br />\n<strong>Silent Auction</strong> - Credit Cards\, Checks or Cash Accepted<br />\n<br />\nTickets - $50.00 per person<br />\nFor Reservations Call 828-837-8536<br />\n<br />\nHelp Habitat Build decent\, affordable shelter for families that qualify for a no-interest mortgage loan<br />\n<br />\n&nbsp\;
LOCATION:St Francis of Assisi Church Hwy 76 Blairsville\, GA
UID:e.256.24472
SEQUENCE:3
DTSTAMP:20260424T103936Z
URL:https://members.visitblairsvillega.com/events/details/2nd-annual-tool-box-bash-dinner-dance-06-07-2014-24472
END:VEVENT

END:VCALENDAR
