BEGIN:VCALENDAR
VERSION:2.0
PRODID:-//ChamberMaster//Event Calendar 2.0//EN
METHOD:PUBLISH
X-PUBLISHED-TTL:P3D
REFRESH-INTERVAL:P3D
CALSCALE:GREGORIAN
BEGIN:VEVENT
DTSTART:20160701T140000Z
DTEND:20160701T220000Z
X-MICROSOFT-CDO-ALLDAYEVENT:FALSE
SUMMARY:2nd Quarter Artist-in-Residence - Arni Katz
DESCRIPTION:Arni Katz uses his fine art photography to present the world in an intriguing and somewhat mysterious way. His images include a wide array of subject matter\, but will leave the viewers looking at the world quite differently than they did before. Be ready to be intrigued and inspired.
X-ALT-DESC;FMTTYPE=text/html:<span style="font-size: 12pt\;"><span style="font-family: adobe caslon pro bold\,serif\;">Arni Katz uses his fine art photography to present the world in an intriguing and somewhat mysterious way. His images include a wide array of subject matter\, but will leave the viewers looking at the world quite differently than they did before. Be ready to be intrigued and inspired.</span></span><br />\n&nbsp\;
LOCATION:The Art Center (Blue Ridge Mountains Arts Association)
UID:e.256.50767
SEQUENCE:3
DTSTAMP:20260420T203339Z
URL:https://members.visitblairsvillega.com/events/details/2nd-quarter-artist-in-residence-arni-katz-07-01-2016-50767
END:VEVENT

END:VCALENDAR
