BEGIN:VCALENDAR
VERSION:2.0
PRODID:-//ChamberMaster//Event Calendar 2.0//EN
METHOD:PUBLISH
X-PUBLISHED-TTL:P3D
REFRESH-INTERVAL:P3D
CALSCALE:GREGORIAN
BEGIN:VEVENT
DTSTART:20150530T180000Z
DTEND:20150530T210000Z
X-MICROSOFT-CDO-ALLDAYEVENT:FALSE
SUMMARY:3 Year Anniversary Celebration at Hightower Creek Vineyards
DESCRIPTION:Hightower Creek Vineyards is celebrating 3 fantastic years! We will have door prizes\, food\, and live music from 2-5 pm performed by the always fun\, entertaining\, and incredibly talented Kaleb Garrett and Steven Phillips! You wont want to miss this exciting and fun day! $10.00 includes a glass of wine or wine Lushie. Bring a picnic lunch to enjoy with any of our wines or try one of our artisanal cheese samplers. Children are welcome. Leashed pets are permitted outside. We are open from 12-6pm and music is from 2-5pm. We can't wait to celebrate with everyone!
X-ALT-DESC;FMTTYPE=text/html:Hightower Creek Vineyards is celebrating 3 fantastic years! We will have door prizes\, food\, and live music from 2-5 pm performed by the always fun\, entertaining\, and incredibly talented Kaleb Garrett and Steven Phillips! You wont want to miss this exciting and fun day! $10.00 includes a glass of wine or wine Lushie. Bring a picnic lunch to enjoy with any of our wines or try one of our artisanal cheese samplers. Children are welcome. Leashed pets are permitted outside. We are open from 12-6pm and music is from 2-5pm. We can&#39\;t wait to celebrate with everyone!&nbsp\;
LOCATION:7150 Canaan Drive Hiawassee\, GA 30546
UID:e.256.40296
SEQUENCE:3
DTSTAMP:20260423T200714Z
URL:https://members.visitblairsvillega.com/events/details/3-year-anniversary-celebration-at-hightower-creek-vineyards-05-30-2015-40296
END:VEVENT

END:VCALENDAR
