BEGIN:VCALENDAR
VERSION:2.0
PRODID:-//ChamberMaster//Event Calendar 2.0//EN
METHOD:PUBLISH
X-PUBLISHED-TTL:P3D
REFRESH-INTERVAL:P3D
CALSCALE:GREGORIAN
BEGIN:VEVENT
DTSTART:20160319T170000Z
DTEND:20160319T190000Z
X-MICROSOFT-CDO-ALLDAYEVENT:FALSE
SUMMARY:30 Year Anniversary Celebration for Mountain Gymnastics
DESCRIPTION:Mountain Gymnastics Center celebrates 30 years in business on March 19th.  There will be performances by the Young Harris College Competitive Cheer Team (1:30) and the Mountain Cheer All-Stars (1:45).  Time of Reflection will be from 2pm - 2:30 and them to finish things up there will be a performance by Mountain Gymnastics Center Team.
X-ALT-DESC;FMTTYPE=text/html:Mountain Gymnastics Center celebrates 30 years in business on March 19th.&nbsp\; There will be performances by the Young Harris College Competitive Cheer Team (1:30) and the Mountain Cheer All-Stars (1:45).&nbsp\; Time of Reflection will be from 2pm - 2:30 and them to finish things up there will be a performance by Mountain Gymnastics Center Team.
LOCATION:Mountain Gymnastics Center\, Blairsville Georgia
UID:e.256.49460
SEQUENCE:3
DTSTAMP:20260421T022148Z
URL:https://members.visitblairsvillega.com/events/details/30-year-anniversary-celebration-for-mountain-gymnastics-03-19-2016-49460
END:VEVENT

END:VCALENDAR
