BEGIN:VCALENDAR
VERSION:2.0
PRODID:-//ChamberMaster//Event Calendar 2.0//EN
METHOD:PUBLISH
X-PUBLISHED-TTL:P3D
REFRESH-INTERVAL:P3D
CALSCALE:GREGORIAN
BEGIN:VEVENT
DTSTART:20141031T180000Z
DTEND:20141031T190000Z
X-MICROSOFT-CDO-ALLDAYEVENT:FALSE
SUMMARY:30 Year Partnership & Anniversary Ribbon Cutting
DESCRIPTION:You're Invited!\n\n30 Year Partnership Ingles and United Community Bank \n\nRibbon Cutting at 2pm\n\nDrawings every 30 minutes 10am - 4pm\n\nCome celebrate with Us!
X-ALT-DESC;FMTTYPE=text/html:<span style="font-family: tahoma\;">You&#39\;re Invited!<br />\n30 Year Partnership Ingles and United Community Bank&nbsp\;<br />\nRibbon Cutting at 2pm<br />\nDrawings every 30 minutes 10am - 4pm</span><br />\n<em><strong><font face="Tahoma">Come celebrate with Us!</font></strong></em><br />\n<br />\n<br />\n&nbsp\;
LOCATION:Ingles 207B Hwy 515 Blairsville\, GA
UID:e.256.27685
SEQUENCE:3
DTSTAMP:20260424T045446Z
URL:https://members.visitblairsvillega.com/events/details/30-year-partnership-anniversary-ribbon-cutting-10-31-2014-27685
END:VEVENT

END:VCALENDAR
