BEGIN:VCALENDAR
VERSION:2.0
PRODID:-//ChamberMaster//Event Calendar 2.0//EN
METHOD:PUBLISH
X-PUBLISHED-TTL:P3D
REFRESH-INTERVAL:P3D
CALSCALE:GREGORIAN
BEGIN:VEVENT
DTSTART:20141018T130000Z
DTEND:20141018T210000Z
X-MICROSOFT-CDO-ALLDAYEVENT:FALSE
SUMMARY:30th Anniversary Good Neighbors Auto Club Car and Truck Show
DESCRIPTION:Good Neighbors Auto Club 30th Anniversary Car and Truck Show\n\n1984 - 2014 Classic Car Show \n\nSaturday\n\nOctober 18\, 2014\n\nRegistration 8am - 12noon SHARP\n\nUnited Community Bank Parking Lot\n\n177 Highway 515 East Blairsville\, GA 30512\n\n\n\nStreet Rods\, Special Interest\, Antiques\, New Car Class Rat Rods\, Motorcycles\, Corvettes and Pick-Ups (New and Old)\n\nAll registered cars receive Dash Plaques\, Cash Prizes drawn from all entries\n\nDoor Prizes\n\nGames\n\nCivil Air Patrol Honor Guard\n\n50/50 Raffle with a Starting Pot of $100\n\nLive Auction\n\nLive Music\n\nAll Day Announcement of Sponsors and Vendors
X-ALT-DESC;FMTTYPE=text/html:<div style="text-align: center\;"><strong>Good Neighbors Auto Club <span style="color: rgb(255\, 0\, 0)\;">30th Anniversary </span>Car and Truck Show<br />\n<span style="color: rgb(255\, 0\, 0)\;">1984 - 2014 Classic Car Show&nbsp\;</span><br />\nSaturday<br />\nOctober 18\, 2014<br />\nRegistration 8am - 12noon SHARP<br />\nUnited Community Bank Parking Lot<br />\n177 Highway 515 East Blairsville\, GA 30512<br />\n<br />\nStreet Rods\, Special Interest\, Antiques\, New Car Class Rat Rods\, Motorcycles\, Corvettes and Pick-Ups (New and Old)<br />\nAll registered cars receive Dash Plaques\, Cash Prizes drawn from all entries<br />\nDoor Prizes<br />\nGames<br />\nCivil Air Patrol Honor Guard<br />\n50/50 Raffle with a Starting Pot of $100<br />\nLive Auction<br />\nLive Music<br />\nAll Day Announcement of Sponsors and Vendors</strong></div>\n
LOCATION:United Community Bank 177 Highway 515 East Blairsville\, GA 30512
UID:e.256.26246
SEQUENCE:3
DTSTAMP:20260424T045835Z
URL:https://members.visitblairsvillega.com/events/details/30th-anniversary-good-neighbors-auto-club-car-and-truck-show-10-18-2014-26246
END:VEVENT

END:VCALENDAR
