BEGIN:VCALENDAR
VERSION:2.0
PRODID:-//ChamberMaster//Event Calendar 2.0//EN
METHOD:PUBLISH
X-PUBLISHED-TTL:P3D
REFRESH-INTERVAL:P3D
CALSCALE:GREGORIAN
BEGIN:VEVENT
DTSTART:20140606T233000Z
DTEND:20140607T020000Z
X-MICROSOFT-CDO-ALLDAYEVENT:FALSE
SUMMARY:38 Special
DESCRIPTION:After more than three decades together\, 38 SPECIAL continue to bring their signature blast of Southern Rock to over 100 cities a year. And at each and every show\, thousands of audience members are amazed by the explosive power of the band's performance. Their many Gold and Platinum album awards stand in testament to the endurance of a legendary powerhouse....
X-ALT-DESC;FMTTYPE=text/html:After more than three decades together\, 38 SPECIAL continue to bring their signature blast of Southern Rock to over 100 cities a year. And at each and every show\, thousands of audience members are amazed by the explosive power of the band&#39\;s performance. Their many Gold and Platinum album awards stand in testament to the endurance of a legendary powerhouse....
LOCATION:Smoky Mountain Center for the Performing Arts Franklin\, GA
UID:e.256.24432
SEQUENCE:3
DTSTAMP:20260424T120122Z
URL:https://members.visitblairsvillega.com/events/details/38-special-06-06-2014-24432
END:VEVENT

END:VCALENDAR
