BEGIN:VCALENDAR
VERSION:2.0
PRODID:-//ChamberMaster//Event Calendar 2.0//EN
METHOD:PUBLISH
X-PUBLISHED-TTL:P3D
REFRESH-INTERVAL:P3D
CALSCALE:GREGORIAN
BEGIN:VEVENT
DTSTART:20150821T140000Z
DTEND:20150821T220000Z
X-MICROSOFT-CDO-ALLDAYEVENT:FALSE
SUMMARY:3D Exhibit: Off the Wall
DESCRIPTION:The Blue Ridge Mountains Arts Association is proud to present the 5th Annual three-dimensional only art show\, ?Off the Wall.?  This show is open to all artists whose expression is in 3D art-form of all genres.  Prospectus and information available at www.blueridgearts.net\n\n Closed on Mondays.
X-ALT-DESC;FMTTYPE=text/html:<span style="font-size:12pt"><span style="font-family:adobe caslon pro bold\,serif">The Blue Ridge Mountains Arts Association is proud to present the 5th Annual three-dimensional only art show\, ?Off the Wall.?&nbsp\; This show is open to all artists whose expression is in 3D art-form of all genres.&nbsp\; Prospectus and information available at www.blueridgearts.net</span></span><br>\n&nbsp\;Closed on Mondays.
LOCATION:The Art Center (Blue Ridge Mountains Arts Association) 420 West Main Street Blue Ridge\, GA 30513
UID:e.256.39085
SEQUENCE:3
DTSTAMP:20260423T151013Z
URL:https://members.visitblairsvillega.com/events/details/3d-exhibit-off-the-wall-08-21-2015-39085
END:VEVENT

END:VCALENDAR
