BEGIN:VCALENDAR
VERSION:2.0
PRODID:-//ChamberMaster//Event Calendar 2.0//EN
METHOD:PUBLISH
X-PUBLISHED-TTL:P3D
REFRESH-INTERVAL:P3D
CALSCALE:GREGORIAN
BEGIN:VEVENT
DTSTART:20140920T220000Z
DTEND:20140920T220000Z
X-MICROSOFT-CDO-ALLDAYEVENT:FALSE
SUMMARY:3rd Annual Fight Night at the Rec
DESCRIPTION:3rd Annual Fight Night at the Rec \n\nMississippi Vs. Georgia Main Event\n\nSaturday\, September 20\, 2014\n\nAt The Rubber Floor Gym 136 Welborn Street\, Blairsville\, GA\n\nDoors Open at 6:00pm\n\nFight Starts at 7:00pm\n\nAdmission $10 Per Person\n\nProceeds Benefit "Shop With A Cop"\n\nJames Young\, Craig "The Picasso" Jones\,\n\nChase Barnett\, Tyler Jones\n\n\n\nSponsored By:\n\nBill Holt Chevrolet\n\nBOAZ Media & Network Solutions\n\nRick's Rental\n\nBrett Owenby Grading\n\nMountain Building Supply\n\nShannon's Kids\n\nNelson Tractor Company
X-ALT-DESC;FMTTYPE=text/html:<span style="font-family: verdana\;"><strong>3rd Annual Fight Night at the Rec </strong><br />\nMississippi Vs. Georgia Main Event<br />\nSaturday\, September 20\, 2014<br />\nAt The Rubber Floor Gym 136 Welborn Street\, Blairsville\, GA<br />\nDoors Open at 6:00pm<br />\nFight Starts at 7:00pm<br />\nAdmission $10 Per Person<br />\nProceeds Benefit &quot\;Shop With A Cop&quot\;<br />\nJames Young\, Craig &quot\;The Picasso&quot\; Jones\,<br />\nChase Barnett\, Tyler Jones<br />\n<br />\nSponsored By:<br />\nBill Holt Chevrolet<br />\nBOAZ Media &amp\; Network Solutions<br />\nRick&#39\;s Rental<br />\nBrett Owenby Grading<br />\nMountain Building Supply<br />\nShannon&#39\;s Kids<br />\nNelson Tractor Company</span>
LOCATION:136 Welborn Street Blairsville\, GA
UID:e.256.26204
SEQUENCE:3
DTSTAMP:20260424T073859Z
URL:https://members.visitblairsvillega.com/events/details/3rd-annual-fight-night-at-the-rec-09-20-2014-26204
END:VEVENT

END:VCALENDAR
