BEGIN:VCALENDAR
VERSION:2.0
PRODID:-//ChamberMaster//Event Calendar 2.0//EN
METHOD:PUBLISH
X-PUBLISHED-TTL:P3D
REFRESH-INTERVAL:P3D
CALSCALE:GREGORIAN
BEGIN:VEVENT
DTSTART:20160903T120000Z
DTEND:20160903T180000Z
X-MICROSOFT-CDO-ALLDAYEVENT:FALSE
SUMMARY:3rd Annual Labor Day **YARD SALE**
DESCRIPTION:It's that time again!  Black & White Antiques is hosting THE yard sale your friends say DO NOT MISS!!!\n\nTONS of items\, several families and dealers set up! From clothing to tools to antiques and vintage galore.
X-ALT-DESC;FMTTYPE=text/html:It&#39\;s that time again! &nbsp\;Black &amp\; White Antiques is hosting THE yard sale your friends say DO NOT MISS!!!<br />\nTONS of items\, several families and dealers set up! From clothing to tools to antiques and vintage galore.
LOCATION:Black & White Antiques parking lot
UID:e.256.56716
SEQUENCE:3
DTSTAMP:20260420T162758Z
URL:https://members.visitblairsvillega.com/events/details/3rd-annual-labor-day-yard-sale-09-03-2016-56716
END:VEVENT

END:VCALENDAR
