BEGIN:VCALENDAR
VERSION:2.0
PRODID:-//ChamberMaster//Event Calendar 2.0//EN
METHOD:PUBLISH
X-PUBLISHED-TTL:P3D
REFRESH-INTERVAL:P3D
CALSCALE:GREGORIAN
BEGIN:VEVENT
DTSTART:20170527T120000Z
DTEND:20170527T180000Z
X-MICROSOFT-CDO-ALLDAYEVENT:FALSE
SUMMARY:3rd Annual Memorial Day YARD SALE
DESCRIPTION:The Yard Sale you don't want to miss!
X-ALT-DESC;FMTTYPE=text/html:<div>The Yard Sale you don&#39\;t want to miss!</div>\n
LOCATION:Black and White Antiques\, Blairsville GA -- In our parking lot!
UID:e.256.73811
SEQUENCE:3
DTSTAMP:20260420T020528Z
URL:https://members.visitblairsvillega.com/events/details/3rd-annual-memorial-day-yard-sale-73811
END:VEVENT

END:VCALENDAR
