BEGIN:VCALENDAR
VERSION:2.0
PRODID:-//ChamberMaster//Event Calendar 2.0//EN
METHOD:PUBLISH
X-PUBLISHED-TTL:P3D
REFRESH-INTERVAL:P3D
CALSCALE:GREGORIAN
BEGIN:VEVENT
DTSTART:20151114T140000Z
DTEND:20151114T210000Z
X-MICROSOFT-CDO-ALLDAYEVENT:FALSE
SUMMARY:3rd Annual MNRG Mountain Holiday Fest
DESCRIPTION:Holiday Fest Breakfast and pictures with Santa for the kids.Meet local business owners and purchase crafts from them. Tables for crafters are available for purchase.
X-ALT-DESC;FMTTYPE=text/html:Holiday Fest Breakfast and pictures with Santa for the kids.Meet local business owners and purchase crafts from them. Tables for crafters are available for purchase.
LOCATION:Pat Haralson Memorial Civic Center 165 Welborn St. Blairsville\, GA
UID:e.256.43948
SEQUENCE:3
DTSTAMP:20260423T085525Z
URL:https://members.visitblairsvillega.com/events/details/3rd-annual-mnrg-mountain-holiday-fest-11-14-2015-43948
END:VEVENT

END:VCALENDAR
