BEGIN:VCALENDAR
VERSION:2.0
PRODID:-//ChamberMaster//Event Calendar 2.0//EN
METHOD:PUBLISH
X-PUBLISHED-TTL:P3D
REFRESH-INTERVAL:P3D
CALSCALE:GREGORIAN
BEGIN:VEVENT
DTSTART:20151007T220000Z
DTEND:20151008T020000Z
X-MICROSOFT-CDO-ALLDAYEVENT:FALSE
SUMMARY:3rd Annual Night of the Mountain Lion
DESCRIPTION:"Night of the Mountain Lion Raffle" serves as a fun-filled community event as well as an important fundraiser for the Women's Basketball program.  The team shares the responsibility of generating additional funds by selling tickets in their home communities during the summer break.
X-ALT-DESC;FMTTYPE=text/html:&quot\;Night of the Mountain Lion Raffle&quot\; serves as a fun-filled community event as well as an important fundraiser for the Women&#39\;s Basketball&nbsp\;program.&nbsp\; The team shares the responsibility of generating additional funds by selling tickets in their home communities during the summer break.
LOCATION:Young Harris College Recreation and Fitness Center.
UID:e.256.43965
SEQUENCE:3
DTSTAMP:20260423T103239Z
URL:https://members.visitblairsvillega.com/events/details/3rd-annual-night-of-the-mountain-lion-10-07-2015-43965
END:VEVENT

END:VCALENDAR
