BEGIN:VCALENDAR
VERSION:2.0
PRODID:-//ChamberMaster//Event Calendar 2.0//EN
METHOD:PUBLISH
X-PUBLISHED-TTL:P3D
REFRESH-INTERVAL:P3D
CALSCALE:GREGORIAN
BEGIN:VEVENT
DTSTART:20140913T120000Z
DTEND:20140913T190000Z
X-MICROSOFT-CDO-ALLDAYEVENT:FALSE
SUMMARY:3rd Annual Pet Celebration
DESCRIPTION:This event is to celebrate the joy pets provide us and the human/pet bond\, includes 2 hour live Ask the Vet radio show\, many demonstrations\, reduced cost vaccine clinic\, pet product vendors\, Adopt A Pets involving all the area rescue groups / humane societies\, pet parade / costume contest\, catered food\, music and entertainment for the whole family. All proceeds will go to support the area pet rescue groups.
X-ALT-DESC;FMTTYPE=text/html:<span style="font-family: times new roman\,serif\;"><span style="font-size: 12pt\;">This event is to celebrate the joy pets provide us and the human/pet bond\, includes 2 hour live Ask the Vet radio show\, many demonstrations\, reduced cost vaccine clinic\, pet product vendors\, Adopt A Pets involving all the area rescue groups / humane societies\, pet parade / costume contest\, catered food\, music and entertainment for the whole family. All proceeds will go to support the area pet rescue groups.</span></span>
LOCATION:Historic Hayesville Square Hayesville\, NC
UID:e.256.25349
SEQUENCE:3
DTSTAMP:20260424T073640Z
URL:https://members.visitblairsvillega.com/events/details/3rd-annual-pet-celebration-09-13-2014-25349
END:VEVENT

END:VCALENDAR
