BEGIN:VCALENDAR
VERSION:2.0
PRODID:-//ChamberMaster//Event Calendar 2.0//EN
METHOD:PUBLISH
X-PUBLISHED-TTL:P3D
REFRESH-INTERVAL:P3D
CALSCALE:GREGORIAN
BEGIN:VEVENT
DTSTART:20140621T220000Z
DTEND:20140622T030000Z
X-MICROSOFT-CDO-ALLDAYEVENT:FALSE
SUMMARY:3rd Annual Professional Rodeo
DESCRIPTION:3rd Annual Professional Rodeo \n\nJune 20 & 21\, 2014  Gates Open at 6pm\, Fun Starts at 8pm\n\nUnion County Saddle Club Arena\n\nBlairsville\, GA - located on corner of Hwy 515 & Hwy 325 \n\n\n\nEvents included:\n\nBareback Bronc Riding\n\nSaddleback Bronc Riding\n\nSteer Wrestling\n\nTeam Roping\n\nTie-Down Roping\n\nLadies Break - away Roping\n\nBarrel Racing\n\nBull Riding\n\nPlenty of things to do for our Little Cowboys & Cowgirls:\n\nCalf scramble\n\nPony rides\n\nEuro-bungee jump and the Gyro-Extreme.\n\n\n\nPlenty of great food! \n\nIt is sanctioned by the IPRA and the SPRA.
X-ALT-DESC;FMTTYPE=text/html:<strong>3rd&nbsp\;Annual Professional Rodeo </strong><br />\n<strong>June 20 &amp\; 21\, 2014&nbsp\;&nbsp\;Gates Open at 6pm\, Fun Starts at 8pm<br />\nUnion County Saddle Club Arena<br />\nBlairsville\, GA - located on corner of Hwy 515 &amp\; Hwy 325 </strong><br />\n<br />\n<strong>Events included</strong>:<br />\nBareback Bronc Riding<br />\nSaddleback Bronc Riding<br />\nSteer Wrestling<br />\nTeam Roping<br />\nTie-Down Roping<br />\nLadies Break - away Roping<br />\nBarrel Racing<br />\nBull Riding<br />\n<strong>Plenty of things to do for our Little Cowboys &amp\; Cowgirls</strong>:<br />\nCalf scramble<br />\nPony rides<br />\nEuro-bungee jump and the Gyro-Extreme.<br />\n<br />\n<strong>Plenty of great food! </strong><br />\nIt is sanctioned by the IPRA and the SPRA.
LOCATION:Union County Saddle Club Arena Corner of Hwy 515 and 325 Blairsville\, GA
UID:e.256.24513
SEQUENCE:3
DTSTAMP:20260424T120252Z
URL:https://members.visitblairsvillega.com/events/details/3rd-annual-professional-rodeo-06-21-2014-24513
END:VEVENT

END:VCALENDAR
