BEGIN:VCALENDAR
VERSION:2.0
PRODID:-//ChamberMaster//Event Calendar 2.0//EN
METHOD:PUBLISH
X-PUBLISHED-TTL:P3D
REFRESH-INTERVAL:P3D
CALSCALE:GREGORIAN
BEGIN:VEVENT
DTSTART:20140503T130000Z
DTEND:20140503T190000Z
X-MICROSOFT-CDO-ALLDAYEVENT:FALSE
SUMMARY:3rd Annual Ramp Festival & Plant Sale
DESCRIPTION:3rd  Annual Ramp Festival & Plant Sale\n\nUnion County Farmers Market\n\nSaturday\, May 3rd 9am - 3pm\n\n\n\nProduce\, Crafts\, Native Plants\, Vegetable Plants\, Trees\, Bushes and Flowers.\n\nLots of great food using this wild\, native plant.\n\nJoin us for a great event!
X-ALT-DESC;FMTTYPE=text/html:<strong>3rd&nbsp\; Annual Ramp Festival &amp\; Plant Sale</strong><br />\nUnion County Farmers Market<br />\nSaturday\, May 3rd 9am - 3pm<br />\n<br />\nProduce\, Crafts\, Native Plants\, Vegetable Plants\, Trees\, Bushes and Flowers.<br />\nLots of great food using this wild\, native plant.<br />\n<strong>Join us for a great event!</strong>
LOCATION:Union County Farmers Market 148 Old Smokey Rd (off Weaver Rd) Blairsville\, Ga
UID:e.256.24250
SEQUENCE:3
DTSTAMP:20260424T122858Z
URL:https://members.visitblairsvillega.com/events/details/3rd-annual-ramp-festival-plant-sale-05-03-2014-24250
END:VEVENT

END:VCALENDAR
