BEGIN:VCALENDAR
VERSION:2.0
PRODID:-//ChamberMaster//Event Calendar 2.0//EN
METHOD:PUBLISH
X-PUBLISHED-TTL:P3D
REFRESH-INTERVAL:P3D
CALSCALE:GREGORIAN
BEGIN:VEVENT
DTSTART:20140524T120000Z
DTEND:20140524T170000Z
X-MICROSOFT-CDO-ALLDAYEVENT:FALSE
SUMMARY:3rd Annual Strawberry Jubilee
DESCRIPTION:3rd Annual Strawberry Jubilee\n\nOur Produce Farmers have collaborated with Western NC growers and we'll have plenty of berries for sale! Wonderful Crafters . Early Spring Produce . Plants Lots of Baked Goods\, Jams & Jellies Special Treat! Logan Turnpike Mill will be selling Strawberry Shortcake on their famous homemade biscuits. If this winter\, you've been missing Saturdays at the Market...it's time to get together\, again!
X-ALT-DESC;FMTTYPE=text/html:<strong>3rd Annual Strawberry Jubilee</strong><br />\nOur Produce Farmers have collaborated with Western NC growers and we&#39\;ll have plenty of berries for sale! Wonderful Crafters . Early Spring Produce . Plants Lots of Baked Goods\, Jams &amp\; Jellies Special Treat! Logan Turnpike Mill will be selling Strawberry Shortcake on their famous homemade biscuits. If this winter\, you&#39\;ve been missing Saturdays at the Market...it&#39\;s time to get together\, again!
LOCATION:Union County Farmers Market 148 Old Smokey Rd (off Weaver Rd) Blairsville\, GA
UID:e.256.24248
SEQUENCE:3
DTSTAMP:20260424T133442Z
URL:https://members.visitblairsvillega.com/events/details/3rd-annual-strawberry-jubilee-05-24-2014-24248
END:VEVENT

END:VCALENDAR
