BEGIN:VCALENDAR
VERSION:2.0
PRODID:-//ChamberMaster//Event Calendar 2.0//EN
METHOD:PUBLISH
X-PUBLISHED-TTL:P3D
REFRESH-INTERVAL:P3D
CALSCALE:GREGORIAN
BEGIN:VEVENT
DTSTART:20150916T140000Z
DTEND:20150916T220000Z
X-MICROSOFT-CDO-ALLDAYEVENT:FALSE
SUMMARY:3rd Qtr Artist in Residence: John Stanford
DESCRIPTION:Come experience the subtle beauty of nature and the awe  inspiring plein air work of John Stanford. John is our 2014 Southern Appalachian Artist Guild National Juried Show winner for "First in 2D."   Artists' reception will be August 1\, 5-7pm.   \n\n\n\n\n\nClosed on Mondays.
X-ALT-DESC;FMTTYPE=text/html:<span style="font-size:12pt"><span style="font-family:adobe caslon pro bold\,serif">Come experience the subtle beauty of nature and the awe &ndash\;inspiring plein air work of John Stanford. John is our 2014 Southern Appalachian Artist Guild National Juried Show winner for &ldquo\;First in 2D.&rdquo\;&nbsp\; &nbsp\;Artists&rsquo\; reception will be August 1\, 5-7pm. &nbsp\;&nbsp\;</span></span><br />\n<br />\n<br />\nClosed on Mondays.
LOCATION:The Art Center (Blue Ridge Mountains Arts Association) 420 West Main Street Blue Ridge\, GA 30513
UID:e.256.39019
SEQUENCE:3
DTSTAMP:20260423T122057Z
URL:https://members.visitblairsvillega.com/events/details/3rd-qtr-artist-in-residence-john-stanford-09-16-2015-39019
END:VEVENT

END:VCALENDAR
