BEGIN:VCALENDAR
VERSION:2.0
PRODID:-//ChamberMaster//Event Calendar 2.0//EN
METHOD:PUBLISH
X-PUBLISHED-TTL:P3D
REFRESH-INTERVAL:P3D
CALSCALE:GREGORIAN
BEGIN:VEVENT
DTSTART:20140614T123000Z
DTEND:20140614T160000Z
X-MICROSOFT-CDO-ALLDAYEVENT:FALSE
SUMMARY:4 - H 4K Walk/Run
DESCRIPTION:June 14th\, Union County 4H will be hosting the first ever 4K For 4H. This will be a walk/run for anyone who wants to attend. We are donating all proceeds to the Union County Explorers\, an organization at UCHS that supports the Access classes. Registration is 20 dollars which includes a free t-shirt. The race starts at 8:30 AM at Meeks Park/Union County Dog Park in Blairsville.\n\n\n\nIf you have any questions please contact the Extension Office \n\nor register on website:http://union4hrun.weebly.com
X-ALT-DESC;FMTTYPE=text/html:June 14th\, Union County 4H will be hosting the first ever 4K For 4H. This will be a walk/run for anyone who wants to attend. We are donating all proceeds to the Union County Explorers\, an organization at UCHS that supports the Access classes. Registration is 20 dollars which includes a free t-shirt. The race starts at 8:30 AM at Meeks Park/Union County Dog Park&nbsp\;in Blairsville.<br />\n<br />\nIf you have any questions please contact the Extension Office&nbsp\;<br />\nor register on website:http://union4hrun.weebly.com<br />\n<br />\n&nbsp\;
LOCATION:Union County Dog Park 121 Meeks Ave Blairsville\, GA 30512
UID:e.256.24738
SEQUENCE:3
DTSTAMP:20260424T104908Z
URL:https://members.visitblairsvillega.com/events/details/4-h-4k-walk-run-06-14-2014-24738
END:VEVENT

END:VCALENDAR
