BEGIN:VCALENDAR
VERSION:2.0
PRODID:-//ChamberMaster//Event Calendar 2.0//EN
METHOD:PUBLISH
X-PUBLISHED-TTL:P3D
REFRESH-INTERVAL:P3D
CALSCALE:GREGORIAN
BEGIN:VEVENT
DTSTART:20141019T130000Z
DTEND:20141019T220000Z
X-MICROSOFT-CDO-ALLDAYEVENT:FALSE
SUMMARY:43rd Georgia Apple Festival
DESCRIPTION:43rd Georgia Apple Festival Arts & Crafts Show\n\nOctober 11\,12 & 18\,19\n\nSaturdays 9am - 6pm Sundays 9am - 5pm\n\nEllijay Lions Club Fairgrounds 1729 South Main Street\, Ellijay\, GA\n\nAntique Car Show Saturday\, October 11\n\nParade Saturday\, October 18 in Historic Downtown Ellijay\n\n\n\nThe Georgia Apple Festival Arts & Crafts Show features live entertainment\, great food\, and over 300 vendors selling hand-crafted items of every description!\n\nAdults - $5.00 Children under 10 Free!\n\nNo Pets Allowed -  Pet Boarding Available On Site
X-ALT-DESC;FMTTYPE=text/html:<strong>43rd Georgia Apple Festival Arts &amp\; Crafts Show</strong><br />\nOctober 11\,12 &amp\; 18\,19<br />\nSaturdays 9am - 6pm Sundays 9am - 5pm<br />\nEllijay Lions Club Fairgrounds 1729 South Main Street\, Ellijay\, GA<br />\n<strong>Antique Car Show </strong>Saturday\, October 11<br />\n<strong>Parade</strong> Saturday\, October 18 in Historic Downtown Ellijay<br />\n<br />\nThe Georgia Apple Festival Arts &amp\; Crafts Show features live entertainment\, great food\, and over 300 vendors selling hand-crafted items of every description!<br />\nAdults - $5.00 Children under 10 Free!<br />\nNo Pets Allowed - &nbsp\;Pet Boarding Available On Site
LOCATION:Ellijay Lions Club Fairgrounds 1729 South Main Street Ellijay\, GA
UID:e.256.27497
SEQUENCE:3
DTSTAMP:20260424T045446Z
URL:https://members.visitblairsvillega.com/events/details/43rd-georgia-apple-festival-10-19-2014-27497
END:VEVENT

END:VCALENDAR
