BEGIN:VCALENDAR
VERSION:2.0
PRODID:-//ChamberMaster//Event Calendar 2.0//EN
METHOD:PUBLISH
X-PUBLISHED-TTL:P3D
REFRESH-INTERVAL:P3D
CALSCALE:GREGORIAN
BEGIN:VEVENT
DTSTART:20160917T130000Z
DTEND:20160917T210000Z
X-MICROSOFT-CDO-ALLDAYEVENT:FALSE
SUMMARY:4th Annual Celebrate Autumn Arts & Crafts Show
DESCRIPTION:This is a juried arts and crafts show\, with inside and outside booths. Sandwiches\, salads\, desserts and beverages will be available.
X-ALT-DESC;FMTTYPE=text/html:This is a juried arts and crafts show\, with inside and outside booths. Sandwiches\, salads\, desserts and beverages will be available.
LOCATION:North Georgia Technical College 121 Meeks Ave Blairsville\, GA
UID:e.256.45585
SEQUENCE:3
DTSTAMP:20260420T145542Z
URL:https://members.visitblairsvillega.com/events/details/4th-annual-celebrate-autumn-arts-crafts-show-09-17-2016-45585
END:VEVENT

END:VCALENDAR
