BEGIN:VCALENDAR
VERSION:2.0
PRODID:-//ChamberMaster//Event Calendar 2.0//EN
METHOD:PUBLISH
X-PUBLISHED-TTL:P3D
REFRESH-INTERVAL:P3D
CALSCALE:GREGORIAN
BEGIN:VEVENT
DTSTART:20160918T170000Z
DTEND:20160918T200000Z
X-MICROSOFT-CDO-ALLDAYEVENT:FALSE
SUMMARY:4th Annual Celebrate Autumn Arts & Crafts Show
DESCRIPTION:This is a juried arts and crafts show\, with inside and outside booths. Sandwiches\, salads\, desserts and beverages will be available.
X-ALT-DESC;FMTTYPE=text/html:This is a juried arts and crafts show\, with inside and outside booths. Sandwiches\, salads\, desserts and beverages will be available.
LOCATION:North Georgia Technical College 121 Meeks Ave Blairsville\, GA
UID:e.256.45586
SEQUENCE:3
DTSTAMP:20260420T145534Z
URL:https://members.visitblairsvillega.com/events/details/4th-annual-celebrate-autumn-arts-crafts-show-09-18-2016-45586
END:VEVENT

END:VCALENDAR
