BEGIN:VCALENDAR
VERSION:2.0
PRODID:-//ChamberMaster//Event Calendar 2.0//EN
METHOD:PUBLISH
X-PUBLISHED-TTL:P3D
REFRESH-INTERVAL:P3D
CALSCALE:GREGORIAN
BEGIN:VEVENT
DTSTART:20140517T130000Z
DTEND:20140517T190000Z
X-MICROSOFT-CDO-ALLDAYEVENT:FALSE
SUMMARY:4th Annual Georgia Mountain Eggfest
DESCRIPTION:Welcome To The 4th Annual Georgia Mountain Eggfest\n\nIn The Beautiful Northeast Georgia Mountains\, Georgia Mountain Fairgrounds\, Hiawassee\, GA\n\nSaturday\, May 17\, 2014 9am - 3pm\n\nTesters Needed To Sample and Experience Wonderful Food\n\nWhile Talking To The Cooks About Their Recipes and Recipes and Techniques\, Experience The "FULL" Big Green Eggfest!\n\nTickets - $20 per person\n\nCall 706-896-4191 for information or purchase tickets
X-ALT-DESC;FMTTYPE=text/html:Welcome To The 4th Annual Georgia Mountain Eggfest<br />\nIn The Beautiful Northeast Georgia Mountains\, Georgia Mountain Fairgrounds\, Hiawassee\, GA<br />\nSaturday\, May 17\, 2014 9am - 3pm<br />\nTesters Needed To Sample and Experience Wonderful Food<br />\nWhile Talking To The Cooks About Their Recipes and Recipes and Techniques\, Experience The &quot\;FULL&quot\; Big Green Eggfest!<br />\nTickets - $20 per person<br />\nCall 706-896-4191 for information or purchase tickets<br />\n<br />\n&nbsp\;
LOCATION:Georgia Mountain Fairgrounds 1311 Music Hall Drive Hiawassee\, GA
UID:e.256.23237
SEQUENCE:3
DTSTAMP:20260424T122204Z
URL:https://members.visitblairsvillega.com/events/details/4th-annual-georgia-mountain-eggfest-05-17-2014-23237
END:VEVENT

END:VCALENDAR
