BEGIN:VCALENDAR
VERSION:2.0
PRODID:-//ChamberMaster//Event Calendar 2.0//EN
METHOD:PUBLISH
X-PUBLISHED-TTL:P3D
REFRESH-INTERVAL:P3D
CALSCALE:GREGORIAN
BEGIN:VEVENT
DTSTART:20160611T150000Z
DTEND:20160611T180000Z
X-MICROSOFT-CDO-ALLDAYEVENT:FALSE
SUMMARY:4th Annual Pet-A-Pet & Open House
DESCRIPTION:Humane Society's Mtn Shelter hosts this event at the shelter. This open house allows the community to see what we do and available services for their four legged friends. Kidz Camp sign ups are also held this day. These age appropriate camps are to teach humane education to our children. Come for the fun\, enjoy reduced adoption fees\, and lots of licks and lots of lovin! (no personal pets please)
X-ALT-DESC;FMTTYPE=text/html:Humane Society&#39\;s Mtn Shelter hosts this event at the shelter. This open house allows the community to see what we do and available services for their four legged friends. Kidz Camp sign ups are also held this day. These age appropriate camps are to teach humane education to our children. Come for the fun\, enjoy reduced adoption fees\, and lots of licks and lots of lovin! (no personal pets please)
LOCATION:Humane Society's Mountain Shelter 129 Bowling Gap Circle Blairsville\, Ga
UID:e.256.52364
SEQUENCE:3
DTSTAMP:20260420T204006Z
URL:https://members.visitblairsvillega.com/events/details/4th-annual-pet-a-pet-open-house-06-11-2016-52364
END:VEVENT

END:VCALENDAR
