BEGIN:VCALENDAR
VERSION:2.0
PRODID:-//ChamberMaster//Event Calendar 2.0//EN
METHOD:PUBLISH
X-PUBLISHED-TTL:P3D
REFRESH-INTERVAL:P3D
CALSCALE:GREGORIAN
BEGIN:VEVENT
DTSTART:20150912T120000Z
DTEND:20150912T210000Z
X-MICROSOFT-CDO-ALLDAYEVENT:FALSE
SUMMARY:4th Annual Pet Celebration
DESCRIPTION:Kicking off at 8 AM with the reduced cost rabies clinic and progressing into a full day of fun\, including an opportunity for pet rescue groups and Adopt-a-Pets\, pet vendors\, and artisans to set up booths\, live on-site "Ask the Vet" radio show with special guests\, live pet demonstrations\, pet costume contests\, Weiner Dog race\, talented entertainers\, catered food and beverages\, and much more.  We are rolling out the red carpet for the sole purpose of celebrating the pure joy that pets bring to our lives\, families and communities.
X-ALT-DESC;FMTTYPE=text/html:<span style="font-family: &quot\;Verdana&quot\;\,&quot\;sans-serif&quot\;\; font-size: 12pt\; mso-fareast-font-family: Calibri\; mso-fareast-theme-font: minor-latin\; mso-bidi-font-family: &quot\;Times New Roman&quot\;\; mso-ansi-language: EN-US\; mso-fareast-language: EN-US\; mso-bidi-language: AR-SA\;"><font color="#000000">Kicking off at&nbsp\;8 AM&nbsp\;with the reduced cost rabies clinic and progressing into a full day of fun\, including an opportunity for pet rescue groups and Adopt-a-Pets\, pet vendors\, and artisans to set up booths\, live on-site &ldquo\;Ask the Vet&rdquo\; radio show with special guests\, live pet demonstrations\, pet costume contests\, Weiner Dog race\, talented entertainers\, catered food and beverages\, and much more.&nbsp\; We are rolling out the red carpet for the sole purpose of celebrating the pure joy that pets bring to our lives\, families and communities.&nbsp\;</font></span>
LOCATION:Historic Square Hayesville\, NC
UID:e.256.37679
SEQUENCE:3
DTSTAMP:20260423T121657Z
URL:https://members.visitblairsvillega.com/events/details/4th-annual-pet-celebration-09-12-2015-37679
END:VEVENT

END:VCALENDAR
