BEGIN:VCALENDAR
VERSION:2.0
PRODID:-//ChamberMaster//Event Calendar 2.0//EN
METHOD:PUBLISH
X-PUBLISHED-TTL:P3D
REFRESH-INTERVAL:P3D
CALSCALE:GREGORIAN
BEGIN:VEVENT
DTSTART:20170422T223000Z
DTEND:20170423T030000Z
X-MICROSOFT-CDO-ALLDAYEVENT:FALSE
SUMMARY:4th Annual Rotary Service Awards Gala
DESCRIPTION:Presented by Union General Hospital Inc.\n\nThis year honoring GARY DAVENPORT as Business Person\; DR THOMAS GARY as Health Professional\; LAMAR PARIS as Public Service\; MARK STALLINGS as Educator and BOB LEVY as Community Volunteer.  \n\nBLACK TIE OPTIONAL.  Dancing to the music of Gnarly Fingers with live and silent auctions.
X-ALT-DESC;FMTTYPE=text/html:<strong>Presented by Union General Hospital Inc.</strong><br />\nThis year honoring GARY DAVENPORT as Business Person\; DR THOMAS GARY as Health Professional\; LAMAR PARIS as Public Service\; MARK STALLINGS as Educator and BOB LEVY as Community Volunteer. &nbsp\;<br />\nBLACK TIE OPTIONAL. &nbsp\;Dancing to the music of Gnarly Fingers with live and silent auctions.
LOCATION:North Georgia Technical College Blairsville Georgia
UID:e.256.69262
SEQUENCE:3
DTSTAMP:20260420T024040Z
URL:https://members.visitblairsvillega.com/events/details/4th-annual-rotary-service-awards-gala-69262
END:VEVENT

END:VCALENDAR
