BEGIN:VCALENDAR
VERSION:2.0
PRODID:-//ChamberMaster//Event Calendar 2.0//EN
METHOD:PUBLISH
X-PUBLISHED-TTL:P3D
REFRESH-INTERVAL:P3D
CALSCALE:GREGORIAN
BEGIN:VEVENT
DTSTART:20140208T140000Z
DTEND:20140208T200000Z
X-MICROSOFT-CDO-ALLDAYEVENT:FALSE
SUMMARY:4th Annual Sweetheart Arts and Crafts Fair
DESCRIPTION:FOURTH ANNUAL SWEETHEART ARTS & CRAFTS FAIR\n\nAll Saints Lutheran Church located at 83 Earl Shelton Rd.\, Blairsville\, GA\n\nSaturday\, February 8\, 2014 from 9:00 AM to 3:00 PM.\n\nLunch will be served from 11:30 AM to 1:30 PM\n\n\n\nThe Fair will feature handcrafted articles\, i.e.\, paintings\, woodcarved items\, wood toys\, jewelry\, etc. There will be a drawing for a knitted afghan and two paintings donated by members of the church. You do not have to be present to win. Take this opportunity to purchase that special item for your Sweetheart for Valentine's Day.\n\n\n\nAll proceeds from this event will benefit the Hope House of Union County. Hope House is an Interministerial Alliance that provides assistance\, such as gasoline\, heating fuel\, medicine\, etc.\, to families and individuals who are currently experiencing difficulty during these hard economic times. Hope House is located at Bracketts Way in Blairsville and is open on Monday and Thursday from 9:00 AM to 12:00 Noon.\n\nCome join us and help to support this caring and sharing ministry in our community.
X-ALT-DESC;FMTTYPE=text/html:FOURTH ANNUAL SWEETHEART ARTS &amp\; CRAFTS FAIR<br />\nAll Saints Lutheran Church located at 83 Earl Shelton Rd.\, Blairsville\, GA<br />\nSaturday\, February 8\, 2014 from 9:00 AM to 3:00 PM.<br />\nLunch will be served from 11:30 AM to 1:30 PM<br />\n<br />\nThe Fair will feature handcrafted articles\, i.e.\, paintings\, woodcarved items\, wood toys\, jewelry\, etc. There will be a drawing for a knitted afghan and two paintings donated by members of the church. You do not have to be present to win. Take this opportunity to purchase that special item for your Sweetheart for Valentine&#39\;s Day.<br />\n<br />\nAll proceeds from this event will benefit the Hope House of Union County. Hope House is an Interministerial Alliance that provides assistance\, such as gasoline\, heating fuel\, medicine\, etc.\, to families and individuals who are currently experiencing difficulty during these hard economic times. Hope House is located at Bracketts Way in Blairsville and is open on Monday and Thursday from 9:00 AM to 12:00 Noon.<br />\nCome join us and help to support this caring and sharing ministry in our community. 
LOCATION:All Saints Lutheran Church located at 83 Earl Shelton Rd. in Blairsville\, GA (515 East where two lanes merge into one)
UID:e.256.22047
SEQUENCE:3
DTSTAMP:20260424T182604Z
URL:https://members.visitblairsvillega.com/events/details/4th-annual-sweetheart-arts-and-crafts-fair-02-08-2014-22047
END:VEVENT

END:VCALENDAR
