BEGIN:VCALENDAR
VERSION:2.0
PRODID:-//ChamberMaster//Event Calendar 2.0//EN
METHOD:PUBLISH
X-PUBLISHED-TTL:P3D
REFRESH-INTERVAL:P3D
CALSCALE:GREGORIAN
BEGIN:VEVENT
DTSTART:20140704T150000Z
DTEND:20140704T170000Z
X-MICROSOFT-CDO-ALLDAYEVENT:FALSE
SUMMARY:4th July Lake Nottely Boat Parade
DESCRIPTION:The annual Union County Fourth of July Boat Parade will take place again at Lake Nottely Marina. Boats can be decorated in any theme they wish. Several creative boats are presented trophies\, with a grand prize also awarded.\n\nBoats should line up at Lake Nottely Marina beginning around 11:00a.m. - 11:30a.m. Boats will pass in review beginning at 11:30a.m.\, then trophies will be awarded.\n\nThere is no charge to participate in the parade. Visitors can view the parade from areas around Nottely Marina.
X-ALT-DESC;FMTTYPE=text/html:<h3 style="color: red\;"><span style="font-family: courier new\;"><span style="font-size: 16px\;"><span style="color: rgb(0\, 0\, 0)\;"><tt><small><tt><small>The annual Union County Fourth of July Boat Parade will take place again at Lake Nottely Marina. Boats can be decorated in any theme they wish. Several creative boats are presented trophies\, with a grand prize also awarded.</small></tt></small></tt></span></span></span></h3>\n\n<h3 style="color: red\;"><span style="font-family: courier new\;"><span style="font-size: 16px\;"><span style="color: rgb(0\, 0\, 0)\;"><tt><small><tt><small>Boats should line up at Lake Nottely Marina beginning around 11:00a.m. - 11:30a.m. Boats will pass in review beginning at 11:30a.m.\, then trophies will be awarded.</small></tt></small></tt></span></span></span></h3>\n\n<h3 style="color: red\;"><span style="font-family: courier new\;"><span style="font-size: 16px\;"><span style="color: rgb(0\, 0\, 0)\;"><tt><small><tt><small>There is no charge to participate in the parade. Visitors can view the parade from areas around Nottely Marina. </small></tt></small></tt></span></span></span></h3>\n
LOCATION:Nottely Marina 19/129 N (Murphy Hwy) Blairsville\, GA
UID:e.256.23426
SEQUENCE:3
DTSTAMP:20260424T092104Z
URL:https://members.visitblairsvillega.com/events/details/4th-july-lake-nottely-boat-parade-07-04-2014-23426
END:VEVENT

END:VCALENDAR
