BEGIN:VCALENDAR
VERSION:2.0
PRODID:-//ChamberMaster//Event Calendar 2.0//EN
METHOD:PUBLISH
X-PUBLISHED-TTL:P3D
REFRESH-INTERVAL:P3D
CALSCALE:GREGORIAN
BEGIN:VEVENT
DTSTART:20160107T150000Z
DTEND:20160107T230000Z
X-MICROSOFT-CDO-ALLDAYEVENT:FALSE
SUMMARY:4th Qtr Artists in Residence: Marie Spaeder Haas & Mary Keasler
DESCRIPTION:Come see an exhibit unlike any other with the combined creativity and visions of watercolor artist Marie Spaeder Haas and quilter Mary Keasler. Artists? reception will be October 17\, 5-7pm. \n\nClosed on Mondays. Please contact us for holiday hours also.
X-ALT-DESC;FMTTYPE=text/html:<p><span style="font-family: adobe caslon pro bold\,serif\; font-size: 12pt\;">Come see an exhibit unlike any other with the combined creativity and visions of watercolor artist Marie Spaeder Haas and quilter Mary Keasler. Artists? reception will be October 17\, 5-7pm. </span><br>\nClosed on Mondays. Please contact us for holiday hours also.</p>\n
LOCATION:The Art Center (Blue Ridge Mountains Arts Association) 420 West Main Street Blue Ridge\, GA 30513
UID:e.256.39798
SEQUENCE:3
DTSTAMP:20260421T060620Z
URL:https://members.visitblairsvillega.com/events/details/4th-qtr-artists-in-residence-marie-spaeder-haas-mary-keasler-01-07-2016-39798
END:VEVENT

END:VCALENDAR
