BEGIN:VCALENDAR
VERSION:2.0
PRODID:-//ChamberMaster//Event Calendar 2.0//EN
METHOD:PUBLISH
X-PUBLISHED-TTL:P3D
REFRESH-INTERVAL:P3D
CALSCALE:GREGORIAN
BEGIN:VEVENT
DTSTART:20170603T230000Z
DTEND:20170604T020000Z
X-MICROSOFT-CDO-ALLDAYEVENT:FALSE
SUMMARY:5th Anniversary Celebration Dinner at Hightower Creek Vineyards
DESCRIPTION:Join us as we celebrate 5 years with the release of an exciting single varietal Pinot Gris! We will also be enjoying our recently released 2016 White and Ros . \n\nWe'll have music by The Radio Rangers and a four-course dinner by Chef Karl Engelmann designed to pair with each of our new releases. \n\n$45.00 per person. Please reserve at the tasting room at 706-896-8963
X-ALT-DESC;FMTTYPE=text/html:Join us as we celebrate 5 years with the release of an exciting single varietal Pinot Gris! We will also be enjoying our recently released 2016 White and Ros&eacute\;.&nbsp\;<br />\nWe&#39\;ll have music by The Radio Rangers and a four-course dinner by Chef Karl Engelmann designed to pair with each of our new releases.&nbsp\;<br />\n$45.00 per person. Please reserve at the tasting room at 706-896-8963<br />\n&nbsp\;
LOCATION:7150 Canaan Drive Hiawassee\, GA 30546
UID:e.256.74075
SEQUENCE:3
DTSTAMP:20260419T232250Z
URL:https://members.visitblairsvillega.com/events/details/5th-anniversary-celebration-dinner-at-hightower-creek-vineyards-74075
END:VEVENT

END:VCALENDAR
