BEGIN:VCALENDAR
VERSION:2.0
PRODID:-//ChamberMaster//Event Calendar 2.0//EN
METHOD:PUBLISH
X-PUBLISHED-TTL:P3D
REFRESH-INTERVAL:P3D
CALSCALE:GREGORIAN
BEGIN:VEVENT
DTSTART:20150516T110000Z
DTEND:20150516T210000Z
X-MICROSOFT-CDO-ALLDAYEVENT:FALSE
SUMMARY:5th Annual Georgia Mountain Eggfest
DESCRIPTION:Welcome To The 5th Annual Georgia Mountain Eggfest\n\nIn The Beautiful Northeast Georgia Mountains\, Georgia Mountain Fairgrounds\, Hiawassee\, GA\n\nTesters Needed To Sample and Experience Wonderful Food\n\nWhile Talking To The Cooks About Their Recipes and Recipes and Techniques\, Experience The "FULL" Big Green Eggfest!
X-ALT-DESC;FMTTYPE=text/html:Welcome To The 5th Annual Georgia Mountain Eggfest<br />\nIn The Beautiful Northeast Georgia Mountains\, Georgia Mountain Fairgrounds\, Hiawassee\, GA<br />\nTesters Needed To Sample and Experience Wonderful Food<br />\nWhile Talking To The Cooks About Their Recipes and Recipes and Techniques\, Experience The &quot\;FULL&quot\; Big Green Eggfest!<br />\n<br />\n<br />\n&nbsp\;
LOCATION:Georgia Mountain Fairgrounds 1311 Music Hall Drive Hiawassee\, GA
UID:e.256.39957
SEQUENCE:3
DTSTAMP:20260423T182407Z
URL:https://members.visitblairsvillega.com/events/details/5th-annual-georgia-mountain-eggfest-05-16-2015-39957
END:VEVENT

END:VCALENDAR
