BEGIN:VCALENDAR
VERSION:2.0
PRODID:-//ChamberMaster//Event Calendar 2.0//EN
METHOD:PUBLISH
X-PUBLISHED-TTL:P3D
REFRESH-INTERVAL:P3D
CALSCALE:GREGORIAN
BEGIN:VEVENT
DTSTART;VALUE=DATE:20140726
DTEND;VALUE=DATE:20140727
TRANSP:TRANSPARENT
X-MICROSOFT-CDO-ALLDAYEVENT:TRUE
SUMMARY:5th Annual Green Bean Festival Pageant
DESCRIPTION:Diamond Pageants is Proud to Host\n\n5th Annual Green Bean Festival Pageant\n\nEach contestant receives a Tiara and Diamond In The Rough Medal\n\nNO ONE leaves a Diamond Pageant empty handed! Registration Fees Include: Farming/Gardening Wear Competition Formal Wear Competition Two Photogenic Competitions Diamond In The Rough Medal Community Service Award: Diamond In The Rough Medallion: Each contestant will receive a medal selected special for their personality.\n\nATTENTION ALL CONTESTANTS \n\nYour presence is requested for the Green Bean Festival located at Union County Farmers Market a very short distance from the civic center. All contestants are invited to walk the Festival in your crown\, medallions and sashes! You will be introduced to the audience and enjoy being a part of the festival. In the past years our local radio station 95.1FM also enjoyed speaking with the contestants. This will be fun for ALL contestants that competed in the Annual Miss Bean Sprout Pageant!\nDivision I\n\nRegistration 10:30 am\n\nPhotogenic Judging: \n\n11:15 am\n\nPageant Begins 11:30 am\n\nDivision II\n\n\nRegistration 1:30 pm\n\nPhotogenic Judging: \n\n2:15 pm\n\nPageant Begins 2:30 pm\n\n\n\nCollect items to be donated to The Union County Lions Club (used eyeglasses\, hearing aids\, cell phones working or not)
X-ALT-DESC;FMTTYPE=text/html:<strong><span style="color: rgb(0\, 128\, 0)\;">Diamond Pageants is Proud to Host<br />\n5th Annual Green Bean Festival Pageant</span></strong><br />\nEach contestant receives a Tiara and Diamond In The Rough Medal<br />\nNO ONE leaves a Diamond Pageant empty handed! Registration Fees Include: Farming/Gardening Wear Competition Formal Wear Competition Two Photogenic Competitions Diamond In The Rough Medal Community Service Award: Diamond In The Rough Medallion: Each contestant will receive a medal selected special for their personality.<br />\n<strong>ATTENTION ALL CONTESTANTS </strong><br />\nYour presence is requested for the Green Bean Festival located at Union County Farmers Market a very short distance from the civic center. All contestants are invited to walk the Festival in your crown\, medallions and sashes! You will be introduced to the audience and enjoy being a part of the festival. In the past years our local radio station 95.1FM also enjoyed speaking with the contestants. This will be fun for ALL contestants that competed in the Annual Miss Bean Sprout Pageant!\n<div align="center"><strong><span class="text-class-11">Division I</span></strong></div>\n\n<div align="center"><span class="text-class-12">Registration 10:30 am</span></div>\n\n<div align="center"><span class="text-class-12">Photogenic Judging:&nbsp\;</span></div>\n\n<div align="center"><span class="text-class-12">11:15 am</span></div>\n\n<div align="center"><span class="text-class-12">Pageant Begins 11:30 am</span></div>\n\n<div align="center"><strong><span class="text-class-11">Division II</span></strong></div>\n\n<div align="center">\n<div align="center"><span class="text-class-12">Registration 1:30 pm</span></div>\n\n<div align="center"><span class="text-class-12">Photogenic Judging:&nbsp\;</span></div>\n\n<div align="center"><span class="text-class-12">2:15 pm</span></div>\n\n<div align="center"><span class="text-class-12">Pageant Begins 2:30 pm</span><br />\n<br />\nCollect items to be donated to The Union County Lions Club (used eyeglasses\, hearing aids\, cell phones working or not)</div>\n\n<div align="center">&nbsp\;</div>\n</div>\n
LOCATION:Haralson Memorial Civic Center 165 Welborn Street Blairsville\, GA 30512
UID:e.256.25376
SEQUENCE:3
DTSTAMP:20260424T092232Z
URL:https://members.visitblairsvillega.com/events/details/5th-annual-green-bean-festival-pageant-07-26-2014-25376
END:VEVENT

END:VCALENDAR
