BEGIN:VCALENDAR
VERSION:2.0
PRODID:-//ChamberMaster//Event Calendar 2.0//EN
METHOD:PUBLISH
X-PUBLISHED-TTL:P3D
REFRESH-INTERVAL:P3D
CALSCALE:GREGORIAN
BEGIN:VEVENT
DTSTART:20140807T120000Z
DTEND:20140807T210000Z
X-MICROSOFT-CDO-ALLDAYEVENT:FALSE
SUMMARY:5th Annual Moonshine Cruz-In
DESCRIPTION:5th Annual Georgia Mountain Moonshine Cruiz-In\n\nAugust 7\,8\, & 9\, 2014 From 8:00 AM to 5:00 PM\n\nEnjoy three fun filled days of good ole mountain hillbilly fun. See a Pioneer village\, real moonshine still in the works\, mountain crafts\, and plenty of hot classic cars\, trucks\, bikes\, rat rods and more! Join us on Thursday\, as we take a 60 mile cruise through the mountain road just like the roads the shiners ran haulin the shine! Huge Kick Off Party Thursday Night! live music\, food\, boat rides\, and so much more! bring your hot rod kick back and enjoy!. Show site opens Friday Its show and shine. So make your plans to join us for the best time you will ever have.
X-ALT-DESC;FMTTYPE=text/html:5th Annual Georgia Mountain Moonshine Cruiz-In<br />\nAugust 7\,8\, &amp\; 9\,&nbsp\;2014 From 8:00 AM to 5:00 PM<br />\nEnjoy three fun filled days of good ole mountain hillbilly fun. See a Pioneer village\, real moonshine still in the works\, mountain crafts\, and plenty of hot classic cars\, trucks\, bikes\, rat rods and more!&nbsp\;Join us&nbsp\;on Thursday\, as we take a 60 mile cruise through the mountain road just like the roads the shiners ran haulin the shine! Huge Kick Off Party Thursday Night! live music\, food\, boat rides\, and so much more! bring your hot rod kick back and enjoy!. Show site opens Friday Its show and shine. So make your plans to join us for the best time you will ever have.
LOCATION:GA Mountain Fairgrounds Hiawassee\, Ga
UID:e.256.23401
SEQUENCE:3
DTSTAMP:20260424T073916Z
URL:https://members.visitblairsvillega.com/events/details/5th-annual-moonshine-cruz-in-08-07-2014-23401
END:VEVENT

END:VCALENDAR
