BEGIN:VCALENDAR
VERSION:2.0
PRODID:-//ChamberMaster//Event Calendar 2.0//EN
METHOD:PUBLISH
X-PUBLISHED-TTL:P3D
REFRESH-INTERVAL:P3D
CALSCALE:GREGORIAN
BEGIN:VEVENT
DTSTART:20160910T120000Z
DTEND:20160910T190000Z
X-MICROSOFT-CDO-ALLDAYEVENT:FALSE
SUMMARY:5th Annual Pet Celebration
DESCRIPTION:A full day of events celebrating the human/pet bond and the joy pets bring to our lives. Proceeds go to participating rescue groups / humane societies who will be offering "Adopt-a-Pet". Demonstrations\, live radio show\, reduced-cost pet vaccinations\, games\, entertainment\, music\, pet parade & costume contest\, pet products vendors\, raffle\, silent auction\, BarBQ\, weiner dog race and much more.
X-ALT-DESC;FMTTYPE=text/html:A full day of events celebrating the human/pet bond and the joy pets bring to our lives. Proceeds go to participating rescue groups / humane societies who will be offering &quot\;Adopt-a-Pet&quot\;. Demonstrations\, live radio show\, reduced-cost pet vaccinations\, games\, entertainment\, music\, pet parade &amp\; costume contest\, pet products vendors\, raffle\, silent auction\, BarBQ\, weiner dog race and much more.
LOCATION:Hayesville\, NC Town Square
UID:e.256.47440
SEQUENCE:3
DTSTAMP:20260420T145124Z
URL:https://members.visitblairsvillega.com/events/details/5th-annual-pet-celebration-09-10-2016-47440
END:VEVENT

END:VCALENDAR
