BEGIN:VCALENDAR
VERSION:2.0
PRODID:-//ChamberMaster//Event Calendar 2.0//EN
METHOD:PUBLISH
X-PUBLISHED-TTL:P3D
REFRESH-INTERVAL:P3D
CALSCALE:GREGORIAN
BEGIN:VEVENT
DTSTART:20140830T140000Z
DTEND:20140830T140000Z
X-MICROSOFT-CDO-ALLDAYEVENT:FALSE
SUMMARY:5th Annual Tractor Show & Parade - A Salute to Our Farmers
DESCRIPTION:Come bring your Antique\, New\, Big and Small Tractors! Everything FARM related is welcome to show & be in the parade! Prizes given to Best in Show\, Oldest\, Most Unique & More! (Tractors Only)\n\nTractors need to be behind the Old Gymnasium on School Circle by 9:00am with Judging beginning at 10:00am with the parade to follow. Tractors will stay on the square all day for all to see.\n\nFor more information or questions\, please contact Mickey Cumming at 706-781-8802\n\n\n\nSponsored by the Union County Farm Bureau
X-ALT-DESC;FMTTYPE=text/html:Come bring your Antique\, New\, Big and Small Tractors! Everything FARM related is welcome to show &amp\; be in the parade! Prizes given to Best in Show\, Oldest\, Most Unique &amp\; More! (Tractors Only)<br />\nTractors need to be behind the Old Gymnasium on School Circle by 9:00am with Judging beginning at 10:00am with the parade to follow. Tractors will stay on the square all day for all to see.<br />\nFor more information or questions\, please contact Mickey Cumming at 706-781-8802<br />\n<br />\nSponsored by the Union County Farm Bureau
LOCATION:Downtown Blairsville on the Square
UID:e.256.26149
SEQUENCE:3
DTSTAMP:20260424T074353Z
URL:https://members.visitblairsvillega.com/events/details/5th-annual-tractor-show-parade-a-salute-to-our-farmers-08-30-2014-26149
END:VEVENT

END:VCALENDAR
