BEGIN:VCALENDAR
VERSION:2.0
PRODID:-//ChamberMaster//Event Calendar 2.0//EN
METHOD:PUBLISH
X-PUBLISHED-TTL:P3D
REFRESH-INTERVAL:P3D
CALSCALE:GREGORIAN
BEGIN:VEVENT
DTSTART:20150725T110000Z
DTEND:20150725T170000Z
X-MICROSOFT-CDO-ALLDAYEVENT:FALSE
SUMMARY:6th Annual Green Bean Festival - Union County Farmers Market
DESCRIPTION:Green Bean Festival\n\nSaturday\, July 25\, 2015\n\n7am - 1pm\n\nUnion County Farmer's Market
X-ALT-DESC;FMTTYPE=text/html:Green Bean Festival<br />\nSaturday\, July 25\, 2015<br />\n7am - 1pm<br />\nUnion County Farmer&#39\;s Market<br />\n<br />\n&nbsp\;
LOCATION:Union County Farmers Market 148 Old Smokey Rd.\, off Weaver Rd. Blairsville\, GA
UID:e.256.27645
SEQUENCE:3
DTSTAMP:20260423T151755Z
URL:https://members.visitblairsvillega.com/events/details/6th-annual-green-bean-festival-union-county-farmers-market-07-25-2015-27645
END:VEVENT

END:VCALENDAR
