BEGIN:VCALENDAR
VERSION:2.0
PRODID:-//ChamberMaster//Event Calendar 2.0//EN
METHOD:PUBLISH
X-PUBLISHED-TTL:P3D
REFRESH-INTERVAL:P3D
CALSCALE:GREGORIAN
BEGIN:VEVENT
DTSTART:20140517T130000Z
DTEND:20140517T190000Z
X-MICROSOFT-CDO-ALLDAYEVENT:FALSE
SUMMARY:8th Annual Tri-State Business Women's Expo
DESCRIPTION:This year our 8th Annual Business Expo is set for May 17\, 2014 and will be held again at the "Farmers Market" in Blairsville. As usual we have limited space and they fill up quickly so reserve your space today!
X-ALT-DESC;FMTTYPE=text/html:This year our 8th Annual Business Expo is set for May 17\, 2014 and will be held again at the &quot\;Farmers Market&quot\; in Blairsville. As usual we have limited space and they fill up quickly so reserve your space today!<br />\n&nbsp\;
LOCATION:Union County Farmers Market 148 Old Smokey Rd Blairsville\, GA
UID:e.256.24311
SEQUENCE:3
DTSTAMP:20260424T122532Z
URL:https://members.visitblairsvillega.com/events/details/8th-annual-tri-state-business-women-s-expo-05-17-2014-24311
END:VEVENT

END:VCALENDAR
