BEGIN:VCALENDAR
VERSION:2.0
PRODID:-//ChamberMaster//Event Calendar 2.0//EN
METHOD:PUBLISH
X-PUBLISHED-TTL:P3D
REFRESH-INTERVAL:P3D
CALSCALE:GREGORIAN
BEGIN:VEVENT
DTSTART:20140911T223000Z
DTEND:20140911T233000Z
X-MICROSOFT-CDO-ALLDAYEVENT:FALSE
SUMMARY:9/11 Flag Dedication Ceremony
DESCRIPTION:There will be a dedication flag ceremony in remembrance of September 11th at the 1st hole at Butternut Creek Golf Course. The flag has been donated by Woodmen of the World Chapter 1180. This ceremony is open to the public and we encourage you to join us.
X-ALT-DESC;FMTTYPE=text/html:There will be a dedication flag ceremony in remembrance of September 11th at the 1st hole at Butternut Creek Golf Course. The flag has been donated by Woodmen of the World Chapter 1180. This ceremony is open to the public and we encourage you to join us.
LOCATION:Butternut Creek Golf Course (First Hole) 129 Union County Recreation Rd.
UID:e.256.27320
SEQUENCE:3
DTSTAMP:20260424T073641Z
URL:https://members.visitblairsvillega.com/events/details/9-11-flag-dedication-ceremony-09-11-2014-27320
END:VEVENT

END:VCALENDAR
