BEGIN:VCALENDAR
VERSION:2.0
PRODID:-//ChamberMaster//Event Calendar 2.0//EN
METHOD:PUBLISH
X-PUBLISHED-TTL:P3D
REFRESH-INTERVAL:P3D
CALSCALE:GREGORIAN
BEGIN:VEVENT
DTSTART:20161001T150000Z
DTEND:20161001T180000Z
X-MICROSOFT-CDO-ALLDAYEVENT:FALSE
SUMMARY:9th Annual Charity Poker Run for S.A.F.E.
DESCRIPTION:Annual Charity Poker Run to support the programs and services of S.A.F.E.  Fun door prizes and raffles.  Best Poker Hand wins the Grand Prize!\n\n \n\nThe ride kicks off at 11am from North Georgia Technical College and ends with lunch at Georgia Mountain Fairgrounds. \n\n \n\nRegistration begins at 9:30am.  Contact S.A.F.E. for pre-registration.
X-ALT-DESC;FMTTYPE=text/html:<div>Annual Charity Poker Run to support the programs and services of S.A.F.E.&nbsp\; Fun door prizes and raffles.&nbsp\;&nbsp\;Best Poker Hand wins the Grand Prize!</div>\n\n<div>&nbsp\;</div>\n\n<div>The ride kicks off at 11am from North Georgia Technical College and ends with lunch&nbsp\;at Georgia Mountain Fairgrounds.&nbsp\;</div>\n\n<div>&nbsp\;</div>\n\n<div>Registration begins at 9:30am.&nbsp\; Contact S.A.F.E. for pre-registration.</div>\n
LOCATION:North Georga Technical College 121 Meeks Avenue off Hwy 515 west of Downtown Blairsville
UID:e.256.5702
SEQUENCE:3
DTSTAMP:20260420T131456Z
URL:https://members.visitblairsvillega.com/events/details/9th-annual-charity-poker-run-for-s-a-f-e-10-01-2016-5702
END:VEVENT

END:VCALENDAR
