BEGIN:VCALENDAR
VERSION:2.0
PRODID:-//ChamberMaster//Event Calendar 2.0//EN
METHOD:PUBLISH
X-PUBLISHED-TTL:P3D
REFRESH-INTERVAL:P3D
CALSCALE:GREGORIAN
BEGIN:VEVENT
DTSTART;VALUE=DATE:20131212
DTEND;VALUE=DATE:20131213
TRANSP:TRANSPARENT
X-MICROSOFT-CDO-ALLDAYEVENT:TRUE
SUMMARY:"A Christmas Story" - Live Theater
DESCRIPTION:"You'll shoot your eye out!"  A family comedy destined to become a theatrical holiday favorite.  Written by Philip Grecian adapted from the Jean Shepherd film.   Rated G
X-ALT-DESC;FMTTYPE=text/html:<p>\n	&quot\;You&#39\;ll shoot your eye out!&quot\;&nbsp\; A family comedy destined to become a theatrical holiday favorite. &nbsp\;Written by Philip Grecian adapted from the Jean Shepherd film.&nbsp\;&nbsp\; Rated G</p>\n
LOCATION:Blue Ridge Community Theater Blue Ridge\, GA
UID:e.256.17404
SEQUENCE:3
DTSTAMP:20260424T194441Z
URL:https://members.visitblairsvillega.com/events/details/a-christmas-story-live-theater-12-12-2013-17404
END:VEVENT

END:VCALENDAR
