BEGIN:VCALENDAR
VERSION:2.0
PRODID:-//ChamberMaster//Event Calendar 2.0//EN
METHOD:PUBLISH
X-PUBLISHED-TTL:P3D
REFRESH-INTERVAL:P3D
CALSCALE:GREGORIAN
BEGIN:VEVENT
DTSTART:20141209T000000Z
DTEND:20141209T010000Z
X-MICROSOFT-CDO-ALLDAYEVENT:FALSE
SUMMARY:A Family Concert - with David Brose
DESCRIPTION:A Family Concert with David Brose on December 8 at 7 p.m. Free introduction to Contra\, Square and Circle Dances to live music on December 9 from 7-8 p.m. Beginners\, couples and singles are welcome.
X-ALT-DESC;FMTTYPE=text/html:A Family Concert with David Brose on December 8 at 7 p.m. Free introduction to Contra\, Square and Circle Dances to live music on December 9 from 7-8 p.m. Beginners\, couples and singles are welcome.
LOCATION:John C Campbell Folk School Brasstown\, GA
UID:e.256.28028
SEQUENCE:3
DTSTAMP:20260424T020558Z
URL:https://members.visitblairsvillega.com/events/details/a-family-concert-with-david-brose-12-08-2014-28028
END:VEVENT

END:VCALENDAR
