BEGIN:VCALENDAR
VERSION:2.0
PRODID:-//ChamberMaster//Event Calendar 2.0//EN
METHOD:PUBLISH
X-PUBLISHED-TTL:P3D
REFRESH-INTERVAL:P3D
CALSCALE:GREGORIAN
BEGIN:VEVENT
DTSTART:20171217T003000Z
DTEND:20171217T023000Z
X-MICROSOFT-CDO-ALLDAYEVENT:FALSE
SUMMARY:A Merry Motown Christmas
DESCRIPTION:Join us for a soulful tribute to the sounds of the season with a musical concert/ production featuring character tributes\, celebrating the evolution of Soul Music\, from Motown and beyond. The repertoire of songs spans more than 30 years of Soul classics. The show features multiple dancers and singers\, dazzling choreography\, glittering costumes and superb musicianship from a live band.
X-ALT-DESC;FMTTYPE=text/html:Join us for a soulful tribute to the sounds of the season with a musical concert/ production featuring character tributes\, celebrating the evolution of Soul Music\, from Motown and beyond. The repertoire of songs spans more than 30 years of Soul classics. The show features multiple dancers and singers\, dazzling choreography\, glittering costumes and superb musicianship from a live band.
LOCATION:Smoky Mountain Center for the Performing Arts 1028 Georgia Road Franklin\, NC 28734
UID:e.256.75375
SEQUENCE:3
DTSTAMP:20260419T140412Z
URL:https://members.visitblairsvillega.com/events/details/a-merry-motown-christmas-75375
END:VEVENT

END:VCALENDAR
