BEGIN:VCALENDAR
VERSION:2.0
PRODID:-//ChamberMaster//Event Calendar 2.0//EN
METHOD:PUBLISH
X-PUBLISHED-TTL:P3D
REFRESH-INTERVAL:P3D
CALSCALE:GREGORIAN
BEGIN:VEVENT
DTSTART:20141211T000000Z
DTEND:20141211T010000Z
X-MICROSOFT-CDO-ALLDAYEVENT:FALSE
SUMMARY:A Reading of Charles Dickens "A Christmas Carol"
DESCRIPTION:December 10 from 7-8 p.m.\, guests can enjoy a dramatic reading of Charles Dickens' "A Christmas Carol". Bob Grove will don period costume and adopt varied characters\, voices as he changes his tune from "Bah\, Humbug!" to "Merry Christmas!" At 8 p.m. that evening\, the acclaimed Brasstown Morris Dancers will present an energetic holiday performance.
X-ALT-DESC;FMTTYPE=text/html:December 10 from 7-8 p.m.\, guests can enjoy a dramatic reading of Charles Dickens&#39\; &quot\;A Christmas Carol&quot\;. Bob Grove will don period costume and adopt varied characters\, voices as he changes his tune from &quot\;Bah\, Humbug!&quot\; to &quot\;Merry Christmas!&quot\; At 8 p.m. that evening\, the acclaimed Brasstown Morris Dancers will present an energetic holiday performance.
LOCATION:John C Campbell Folk School Brasstown\, NC
UID:e.256.28025
SEQUENCE:3
DTSTAMP:20260424T020601Z
URL:https://members.visitblairsvillega.com/events/details/a-reading-of-charles-dickens-a-christmas-carol-12-10-2014-28025
END:VEVENT

END:VCALENDAR
