BEGIN:VCALENDAR
VERSION:2.0
PRODID:-//ChamberMaster//Event Calendar 2.0//EN
METHOD:PUBLISH
X-PUBLISHED-TTL:P3D
REFRESH-INTERVAL:P3D
CALSCALE:GREGORIAN
BEGIN:VEVENT
DTSTART:20171014T222000Z
DTEND:20171015T003000Z
X-MICROSOFT-CDO-ALLDAYEVENT:FALSE
SUMMARY:A Salute to America's Veterans
DESCRIPTION:Come join The Tunnel Rats Band\, Accompanied by the UCHS Chorus\, as they present songs for the 60's and 70's... songs that will make you laugh\, cry and songs that will make you proud to be an American!  The Tunnel Rats are a unique collaboration of individuals from different decades\, who have come together with a common love of music which depicts the spectrum of experiences and emotions faced by our military men and women of all ages.  The Tunnel Rats\, accompanied by the UCHS chorus\, top off the evening with a rendition of a very special Patriotic song.
X-ALT-DESC;FMTTYPE=text/html:Come join The Tunnel Rats Band\, Accompanied by the UCHS&nbsp\;Chorus\, as they present songs for the 60&#39\;s and 70&#39\;s... songs that will make you laugh\, cry and songs that will make you proud to be an American! &nbsp\;The Tunnel Rats are a unique collaboration of individuals from different decades\, who have come together with a common love of music which depicts the spectrum of experiences and emotions faced by our military men and women of all ages. &nbsp\;The Tunnel Rats\, accompanied by the UCHS chorus\, top off the evening with a rendition of a very special Patriotic song.
LOCATION:The Union County Fine Arts Center\, Blairsville Georgia
UID:e.256.75280
SEQUENCE:3
DTSTAMP:20260419T160205Z
URL:https://members.visitblairsvillega.com/events/details/a-salute-to-america-s-veterans-75280
END:VEVENT

END:VCALENDAR
