BEGIN:VCALENDAR
VERSION:2.0
PRODID:-//ChamberMaster//Event Calendar 2.0//EN
METHOD:PUBLISH
X-PUBLISHED-TTL:P3D
REFRESH-INTERVAL:P3D
CALSCALE:GREGORIAN
BEGIN:VEVENT
DTSTART:20141021T223000Z
DTEND:20141021T223000Z
X-MICROSOFT-CDO-ALLDAYEVENT:FALSE
SUMMARY:A Special Event For Women Only - Hosted by John White\, Financial Guideposts
DESCRIPTION:Your Invited:\n\nA Special Event For Women Only\n\nAn Informational Program for Women\, Hosted by John White\, Financial Guideposts\n\nAttend this complimentary event designed to help you avoid the six potential pitfalls.\n\nTopics we'll discuss:\n\n	Why you shouldn't leave money matters to your husband\, partner or family\n	How to generate a predictable\, sustainable income that is guaranteed for life\n	Understand the four critical components of your Social Security benefit\n	Learn how failure to distribute your legacy properly may leave your grandchildren disinherited\n	Learn how Drastically your assets can plummet if your beneficiaries fail to stretch your IRA\n\nOctober has been designated as Breast Cancer Awareness Month to increase the awareness of this disease and help raise funds for research to find a cure. This campaign also provides valuable support and information to individuals and families already affected by the disease.\n\nTo show how important this is to us\, Our firm will a $10 donation to a breast cancer foundation on behalf of you and a female guest.\n\nCome enjoy a night out with a friend\, raise money for a great cause and learn about the tools to help empower your financial decisions.
X-ALT-DESC;FMTTYPE=text/html:Your Invited:<br />\n<em><strong>A Special Event For Women Only</strong></em><br />\nAn Informational Program for Women\,&nbsp\;Hosted by John White\, Financial Guideposts<br />\nAttend this complimentary event designed to help you avoid the six potential pitfalls.<br />\nTopics we&#39\;ll discuss:\n<ul>\n	<li>Why you shouldn&#39\;t leave money matters to your husband\, partner or family</li>\n	<li>How to generate a predictable\, sustainable income that is guaranteed for life</li>\n	<li>Understand the four critical components of your Social Security benefit</li>\n	<li>Learn how failure to distribute your legacy properly may leave your grandchildren disinherited</li>\n	<li>Learn how Drastically your assets can plummet if your beneficiaries fail to stretch your IRA</li>\n</ul>\nOctober has been designated as Breast Cancer Awareness Month to increase the awareness of this disease and help raise funds for research to find a cure. This campaign also provides valuable support and information to individuals and families already affected by the disease.<br />\nTo show how important this is to us\, Our firm will a $10 donation to a breast cancer foundation on behalf of you and a&nbsp\;female guest.<br />\nCome enjoy a night out with a friend\, raise money for a great cause and learn about the tools to help empower your financial decisions.<br />\n<br />\n&nbsp\;
LOCATION:Financial Guideposts 931 E Main St.\, Ste E Blue Ridge\, GA 30513
UID:e.256.27582
SEQUENCE:3
DTSTAMP:20260424T061719Z
URL:https://members.visitblairsvillega.com/events/details/a-special-event-for-women-only-hosted-by-john-white-financial-guideposts-10-21-2014-27582
END:VEVENT

END:VCALENDAR
